Workbook

Sheet Zał 2 25-01-2024
C3: Osobowy fundusz płac w SM w roku 2023 | F3: Propozycja -Osobowy fundusz płac w SM w roku 2024
A5: L.P. | B5: Wyszczególnienie | C5: Fundusz Płac Zasadniczej (zł) | D5: Premia 20% (zł) | E5: Razem | F5: Fundusz Płac Zasadniczej (zł) | G5: Premia 20% (zł) | H5: Razem
A6: 1 | B6: 2 | C6: 3 | D6: 4 | E6: 5 | F6: 6 | G6: 7 | H6: 8
A7: 1 | B7: Zarząd | C7: =12*17100 -> 205200 | D7: =C7*0.2 -> 41040 | E7: =C7+D7 -> 246240 | F7: =12*18000 -> 216000 | G7: =F7*0.2 -> 43200 | H7: =F7+G7 -> 259200
A8: 2 | B8: Księgowość | C8: =12*14220 -> 170640 | D8: =C8*0.2 -> 34128 | E8: =C8+D8 -> 204768 | F8: =12*15720 -> 188640 | G8: =F8*0.2 -> 37728 | H8: =F8+G8 -> 226368
A9: 3 | B9: Dział Techniczny | C9: =12*32680 -> 392160 | D9: =C9*0.2 -> 78432 | E9: =C9+D9 -> 470592 | F9: =12*36180 -> 434160 | G9: =F9*0.2 -> 86832 | H9: =F9+G9 -> 520992
B10: Razem | C10: =SUM(C7:C9) -> 768000 | D10: =SUM(D7:D9) -> 153600 | E10: =C10+D10 -> 921600 | F10: =SUM(F7:F9) -> 838800 | G10: =SUM(G7:G9) -> 167760 | H10: =F10+G10 -> 1006560
B13: Koszty Zarządu | C13: =E7 -> 246240 | E13: =H7 -> 259200 | H13: =H7 -> 259200
B14: Koszty eksploatacji | C14: =E8+E9 -> 675360 | E14: =H8+H9 -> 747360 | H14: =H8+H9 -> 747360
C15: =C13+C14 -> 921600 | E15: =E13+E14 -> 1006560 | H15: =H13+H14 -> 1006560

Sheet Zał 3 25-01-2024
A1: L.P. | B1: Wyszczególnienie | C1: Plan 2023 | D1: Przewidywane Wykonanie | E1: Wsk. kosztów | F1: Plan 2024 | G1: Wskaźnik | H1: R-ca
D2: Kosztów Zarządu | E2: w stos. do Planu | G2: Plan 2024 do | H2: Plan 2024 do Wykon. 2023
D3: za 2023 rok | E3: 2023 r. | G3: wykon. 2023 | H3: w zł
E4: w % | G4: w %
A5: 1 | B5: Amortyzacja | C5: 48296.66 | D5: 20938.18 | E5: =D5/C5 -> 0.43353267 | F5: 35000 | G5: =F5/D5 -> 1.6715875 | H5: 14061.82
A6: 2 | B6: Materiały i energia | C6: 51648.9 | D6: 64858.35 | E6: =D6/C6 -> 1.2557547 | F6: 64858.35 | G6: =F6/D6 -> 1 | H6: 0
A7: 3 | B7: Usługi obce | C7: 176108.21 | D7: 186097.43 | E7: =D7/C7 -> 1.0567221 | F7: 186097.43 | G7: =F7/D7 -> 1 | H7: 0
A8: 4 | B8: Pozostałe koszty materialne | C8: 1000 | D8: 0 | E8: =D8/C8 -> 0 | F8: 1000 | G8: =F8/D8 -> #DIV/0! | H8: 1000
A9: 5 | B9: Osobowy Fundusz Płac | C9: 246240 | D9: 227555.84 | E9: =D9/C9 -> 0.92412216 | F9: 259200 | G9: =F9/D9 -> 1.1390611 | H9: 31644.16
A10: 6 | B10: Bezosobowy Fundusz Płac | C10: 185148 | D10: 173319 | E10: =D10/C10 -> 0.93611057 | F10: 221988 | G10: =F10/D10 -> 1.2808059 | H10: 48669
A11: 7 | B11: Składki ZUS | C11: 78120.43 | D11: 66333.96 | E11: =D11/C11 -> 0.84912436 | F11: 82172.26 | G11: =F11/D11 -> 1.2387661 | H11: 15838.3
A12: 8 | B12: Świadczenia socjalne | C12: 3325.94 | D12: 3325.94 | E12: =D12/C12 -> 1 | F12: 3828.68 | G12: =F12/D12 -> 1.1511573 | H12: 502.74
A13: 9 | B13: Podatki i opłaty | C13: 320 | D13: 318.75 | E13: =D13/C13 -> 0.99609375 | F13: 352 | G13: =F13/D13 -> 1.1043137 | H13: 33.25
A14: 10 | B14: Usługi bankowe | C14: 4500 | D14: 8148.58 | E14: =D14/C14 -> 1.8107956 | F14: 8148.58 | G14: =F14/D14 -> 1 | H14: 0
A15: 11 | B15: Delegacje i ryczałty | C15: 7400 | D15: 9517.72 | E15: =D15/C15 -> 1.2861784 | F15: 9517.72 | G15: =F15/D15 -> 1 | H15: 0
A16: 12 | B16: Pozostałe koszty niemater. | C16: 210 | D16: 290 | E16: =D16/C16 -> 1.3809524 | F16: 290 | G16: =F16/D16 -> 1 | H16: 0
B17: Razem | C17: 802318.14 | D17: 760703.75 | E17: =D17/C17 -> 0.94813231 | F17: 872453.02 | G17: =F17/D17 -> 1.1469025 | H17: 111749.27

Sheet Zał 4 25-01-2024
A1: L.p. | B1: ULICA NR BUDYNKU | C1: POWIERZCHNIA UŻYTKOWA LOKALI MIESZKALNYCH w [m2] | D1: POWIERZCHNIA UŻYTKOWA GARAŻY I MIEJSC POSTOJOWYCH w [m2] | E1: POWIERZCHNIA UŻYTKOWA LOKALI USŁUGOWYCH w [m2]
A2: 1 | B2: TURNIEJOWA 59 | C2: 3445.5 | D2: 0 | E2: 0
A3: 2 | B3: TURNIEJOWA 61 | C3: 1636.3 | D3: 0 | E3: 0
A4: 3 | B4: TURNIEJOWA 63 | C4: 1132.6 | D4: 0 | E4: 0
A5: 4 | B5: TURNIEJOWA 65 | C5: 2928.1 | D5: 336.6 | E5: 412
A6: 5 | B6: TURNIEJOWA 65A | C6: 5933.6 | D6: 0 | E6: 64.2
A7: 6 | B7: KORDIANA 52 | C7: 2721.99 | D7: 0 | E7: 0
A8: 7 | B8: KORDIANA 54 | C8: 3970.72 | D8: 353.27 | E8: 0
A9: 8 | B9: KORDIANA 56 | C9: 6192.08 | D9: 0 | E9: 0
A10: 9 | B10: KORDIANA 58 | C10: 1411 | D10: 188.64 | E10: 0
A11: 10 | B11: KORDIANA 58A | C11: 1525.18 | D11: 190.8 | E11: 0
A12: 11 | B12: KORDIANA 58B | C12: 1423.32 | D12: 189.72 | E12: 0
A13: 12 | B13: KORDIANA 60 | C13: 4316.48 | D13: 499.93 | E13: 155.4
... A31: 30 | B31: CEGLARSKA 27A | C31: 0 | D31: 312.2 | E31: 0
B32: RAZEM: | C32: 98671.37 | D32: 15253.78 | E32: 2195.59

Sheet Zał. 5 25-01-2024
A1: L.P. | B1: RODZAJ DZIAŁALNOŚCI | C1: Plan 2023 r. | D1: Przewidywanewykonanie za 2023 r. | E1: Wsk. Wykon. do Planu 2023 w % | F1: Plan 2024 r. | G1: Wsk. Wzrostu 2024/2023 w %
A2: I | B2: EKSPLOATACJA OGÓŁEM
A3: 1 | B3: KOSZTY w tym:
B4: w tym:
A5: 1.1 | B5: Eksploatacja | C5: 4092841.4 | D5: 4328107.9 | E5: =D5/C5 -> 1.0574824 | F5: 4789522.2 | G5: =F5/D5 -> 1.1066088
A6: 1.2 | B6: Zimna Woda | C6: 1724953.8 | D6: 1979823.9 | E6: =D6/C6 -> 1.1477548 | F6: =1979823.91*1.1046 -> 2186913.5 | G6: =F6/D6 -> 1.1046
A7: 1.3 | B7: Ciepła Woda | C7: 972191.53 | D7: 1427955.8 | E7: =D7/C7 -> 1.4688009 | F7: =D7*1.1046 -> 1577319.9 | G7: =F7/D7 -> 1.1046
A8: 1.4 | B8: Wywóz nieczystości */ | C8: 1039586.6 | D8: 1125605.3 | E8: =D8/C8 -> 1.0827431 | F8: =D8 -> 1125605.3 | G8: =F8/D8 -> 1
A9: 1.5 | B9: Telewizja Kablowa UPC + Azart | C9: 20685.72 | D9: 13404.57 | E9: =D9/C9 -> 0.6480108 | F9: =D9 -> 13404.57 | G9: =F9/D9 -> 1
A10: 1.6 | B10: Podatek od nieruchomości | C10: 121319.01 | D10: 117208.43 | E10: =D10/C10 -> 0.96611759 | F10: =D10*1.18 -> 138305.95 | G10: =F10/D10 -> 1.18
A11: 1.7 | B11: Centralne ogrzewanie | C11: 3992453.8 | D11: 4895926.7 | E11: =D11/C11 -> 1.2262951 | F11: =D11*1.2 -> 5875112 | G11: =F11/D11 -> 1.2
B12: RAZEM KOSZTY | C12: =SUM(C5:C11) -> 11964032 | D12: =SUM(D5:D11) -> 13888032 | E12: =D12/C12 -> 1.1608154 | F12: =SUM(F5:F11) -> 15706183 | G12: =F12/D12 -> 1.1309149
A14: 2 | B14: WPŁYWY w tym:
A15: 2.1 | B15: Eksploatacja (w tym pożytki) | C15: 4502483.3 | D15: =4437000.4+49313.64 -> 4486314 | E15: =D15/C15 -> 0.99640882 | F15: =5195217.61-250000-10175.69 -> 4935041.9 | G15: =F15/D15 -> 1.1000215
A16: 2.2 | B16: Zimna Woda | C16: 1724953.8 | D16: =D6 -> 1979823.9 | E16: =D16/C16 -> 1.1477548 | F16: =F6 -> 2186913.5 | G16: =F16/D16 -> 1.1046
A17: 2.3 | B17: Ciepła Woda | C17: 972191.53 | D17: =D7 -> 1427955.8 | E17: =D17/C17 -> 1.4688009 | F17: =F7 -> 1577319.9 | G17: =F17/D17 -> 1.1046
A18: 2.4 | B18: Wywóz nieczystości | C18: 1039586.6 | D18: 1125788.3 | E18: =D18/C18 -> 1.0829191 | F18: =F8 -> 1125605.3 | G18: =F18/D18 -> 0.99983745
A19: 2.5 | B19: Telewizja Kablowa UPC + Azart | C19: 20685.72 | D19: 17144.35 | E19: =D19/C19 -> 0.82880122 | F19: =F9 -> 13404.57 | G19: =F19/D19 -> 0.78186516
A20: 2.6 | B20: Podatek od nieruchomości | C20: 121319.01 | D20: =111575.41+102.56 -> 111677.97 | E20: =D20/C20 -> 0.9205315 | F20: =F10 -> 138305.95 | G20: =F20/D20 -> 1.2384354
A21: 2.8 | B21: Centralne ogrzewanie | C21: 3992453.8 | D21: =D11 -> 4895926.7 | E21: =D21/C21 -> 1.2262951 | F21: =F11 -> 5875112 | G21: =F21/D21 -> 1.2
B22: RAZEM WPŁYWY | C22: =SUM(C15:C21) -> 12373674 | D22: =SUM(D15:D21) -> 14044631 | E22: =D22/C22 -> 1.1350413 | F22: =SUM(F15:F21) -> 15851703 | G22: =F22/D22 -> 1.1286664
A24: 3 | B24: WYNIK
A25: 3.1 | B25: Eksploatacja | C25: =C15-C5 -> 409641.85 | D25: =D15-D5 -> 158206.15 | E25: =D25/C25 -> 0.38620602 | F25: =F15-F5 -> 145519.71 | G25: =F25/D25 -> 0.9198107
A26: 3.2 | B26: Zimna Woda | C26: =C16-C6 -> 0 | D26: =D16-D6 -> 0 | F26: =F16-F6 -> 0
A27: 3.3 | B27: Ciepła Woda | C27: =C17-C7 -> 0 | D27: =D17-D7 -> 0 | F27: =F17-F7 -> 0
A28: 3.4 | B28: Wywóz nieczystości | C28: =C18-C8 -> 0 | D28: =D18-D8 -> 183 | F28: =F18-F8 -> 0
A29: 3.5 | B29: Telewizja Kablowa UPC + Azart | C29: =C19-C9 -> 0 | D29: =D19-D9 -> 3739.78 | F29: =F19-F9 -> 0
A30: 3.6 | B30: Podatek od nieruchomości | C30: =C20-C10 -> 0 | D30: =D20-D10 -> -5530.46 | F30: =F20-F10 -> 0
A31: 3.8 | B31: Centralne ogrzewanie | C31: =C21-C11 -> 0 | D31: =D21-D11 -> 0 | F31: =F21-F11 -> 0
B32: Łączny wynik na Eksplotacji za rok bieżący obejmujący pozycje: 3.1, 3.4, 3.5 i 3.6 | C32: =SUM(C25:C31) -> 409641.85 | D32: =SUM(D25:D31) -> 156598.47 | E32: =D32/C32 -> 0.38228142 | F32: =SUM(F25:F31) -> 145519.71 | G32: =F32/D32 -> 0.92925371
B34: Planowany Wynik narastający na Eksploatacji za 2022 do rozliczenia w 2023 | C34: -604999.41
B35: Wykonany Wynik narastający na Eksploatacji za 2022 do rozliczenia w 2023 | D35: -649373.96
B36: Planowany wynik na Eksploatacji za rok 2023 | C36: 409641.85
B37: Nadwyżka bilansowa za 2019 r. i 2020 r. dofinans. Kosztów Eksploatacji zgodnie z Uchw. WZ Nr 30 i 31 z dnia 29.06.2023 r. | C37: =114000+70330.63 -> 184330.63 | D37: =114000+70330.63 -> 184330.63
B38: Przewidywany wynik narastający na Eksploatacji na 31.12.2023 r. Do rozlicznia w 2024 r. w tym wynik na Eksploatacji za 2023 r. tj. 156 598,47 zł oraz Nadwyżka bilansowa za 2019 i 2020 r. tj. 184 330,63 zł | D38: =D32+D35+D37 -> -308444.86 | F38: =D38 -> -308444.86 | G38: =F38/D38 -> 1
B39: PLANOWANY WYNIK na 31.12.2023 r. | C39: =C34+C36+C37 -> -11026.93
B40: Nadwyżka Bilansowa za 2023 r. preznaczona na dofinans. Kosztów Eksploatacji do decyzji WZ w VI.2024 r. | F40: 250000
B41: Wpływy w 2024 r. od nieczłonków w wys. 0,38 zł/m2 za 2-ch miesiące | F41: 10175.69
B42: Ogółem PLANOWANY WYNIK na EKSPLOATACJI na 31.12.2024 r. | F42: =F38+F32+F40+F41 -> 97250.54
A45: */ | B45: W pozycji 1.4 :Wywóz nieczystości nie założono ich wzrostu w 2024 roku, z uwagi na brak informacji z MPGO w tej sprawie na dzień porządzenia
B46: Planu Finansowo - Gospodarczego na rok 2024

Sheet Zał 6 25-01-2024
A1: L.P. | B1: NIERUCHOMOŚĆ | C1: Ilość m2 pow.Użytk. Mieszkań, garaży i lok.użytk. | D1: Pow. Użytk. Mieszk., garaży BEZ CZŁONKOWSTWA | E1: Pow.Użytk. Mieszk., garaży posiadając. CZŁONKOWSTWO | F1: Obowiązująca stawka eksploatacyjna od 1 stycznia 2024 r. | G1: Wykonany Wynik narastający za 2022 r. do rozliczenia w 2023 r. wg ksiąg rachunkowych | H1: Przewidywany Wynik za rok 2023 na Eksploatacji | I1: Przeznaczona nadwyżka bilansowa za 2019 r. i 2020 r. na pokrycie wyniku ujemnego - Uchw. WZ Nr 30 i 31 z dnia 29.06.2023 r. | J1: Przewidywany Wynik za 2023 uwzględniający wynik narastający na 31.12.2022 r. do rozliczenia w 2024 r. (rubr. 7+ rubr. 8 + rubr.9) | K1: Planowane Wpływy z tyt. POŻYTKÓW w nieruchom. w 2024 r. | L1: Przeznaczenie części NADWYŻKI BILANSOWEJ ZA 2023 R. dla członków po zatwierdzeniu UCHWAŁĄ przez WZ w 2024 r. | M1: PLANOWANE WPŁYWY NA EKSPLOATACJI W 2024 r. za 2 m-ce od NIECZŁONKÓW Sp-ni w wys. dot. przezn. nadwyżki bilansowej za 2019, 2020 i 2023 r. | N1: Planowane KOSZTY na 2024 r. w oparciu o wykonanie kosztów w 2023 r. | O1: Planowane KOSZTY na 2024 r. (powiększone o koszty w wysokości 461 414,32 zł z zał. Nr 6.1 do Planu) | P1: Planowane WPŁYWY na 2024 r. (rubr. 3 *rubr.6 *5 m-cy + rubr.19 * rubr. 3 *7 m-cy) + planowane Pożytki w wys. 43 643,65 zł rubr. 11+ NADWYŻKA BILANSOWA rubr.12 + rubr. 13) | Q1: Wynik na EKSPLOATACJI za 2024 rok (rubr.16-15) | R1: Ogółem wynik na 31.12.2024 r. (rubr.10+17) | S1: Obowiązująca stawka eksploatacyjna od 01.06.2024 r. po zmianie stawki eksploatacyjnej proponowanej przez Zarząd | T1: Wzrost stawki eksploatac. od 1 czerwca 2024 r. (rubr. 17 - rubr. 4)
A2: 1 | B2: 2 | C2: 3 | D2: 4 | E2: 5 | F2: 6 | G2: 7 | H2: 8 | I2: 9 | J2: 10 | K2: 11 | L2: 12 | M2: 13 | N2: 14 | O2: 15 | P2: 16 | Q2: 17 | R2: 18 | S2: 19 | T2: 20
A3: 1 | B3: Turniejowa 59 | C3: 3445.5 | D3: 160.9 | E3: =C3-D3 -> 3284.6 | F3: 3.56 | G3: -16482.17 | H3: 6025.72 | I3: 6242.54 | J3: =G3+H3+I3 -> -4213.91 | K3: 0 | L3: =$L$34/$E$32*E3 -> 8511.7919 | M3: =(ROUND($L$32/$E$32*D3,2)+(D3*0.16*12))*2/12 -> 120.98133 | N3: 134565.01 | O3: =N3+'Zał 6.1. 25-01-2024'!L3 -> 149017.07 | P3: =ROUND(C3*F3*5+S3*C3*7,2)+K3+L3+M3 -> 161371.79 | Q3: =P3-O3 -> 12354.721 | R3: =Q3+J3 -> 8140.8109 | S3: 3.79 | T3: =S3-F3 -> 0.23 | U3: 134565.01 | V3: =U3-Q3 -> 122210.29
A4: 2 | B4: Turniejowa 61 | C4: 1636.3 | D4: 75.9 | E4: =C4-D4 -> 1560.4 | F4: 3.57 | G4: -15710.74 | H4: 2412.65 | I4: 2965.62 | J4: =G4+H4+I4 -> -10332.47 | K4: 782.46 | L4: =$L$34/$E$32*E4 -> 4043.6583 | M4: =(ROUND($L$32/$E$32*D4,2)+(D4*0.16*12))*2/12 -> 57.069667 | N4: 64483.702 | O4: =N4+'Zał 6.1. 25-01-2024'!L4 -> 71347.12 | P4: =ROUND(C4*F4*5+S4*C4*7,2)+K4+L4+M4 -> 79907.548 | Q4: =P4-O4 -> 8560.4277 | R4: =Q4+J4 -> -1772.0423 | S4: 4 | T4: =S4-F4 -> 0.43 | U4: 64483.702 | V4: =U4-Q4 -> 55923.274
A5: 3 | B5: Turniejowa 63 | C5: 1132.6 | D5: 117.2 | E5: =C5-D5 -> 1015.4 | F5: 3.91 | G5: -20291.65 | H5: 541.25 | I5: 1929.81 | J5: =G5+H5+I5 -> -17820.59 | K5: 0 | L5: =$L$34/$E$32*E5 -> 2631.3321 | M5: =(ROUND($L$32/$E$32*D5,2)+(D5*0.16*12))*2/12 -> 88.122333 | N5: 49491.065 | O5: =N5+'Zał 6.1. 25-01-2024'!L5 -> 54241.727 | P5: =ROUND(C5*F5*5+S5*C5*7,2)+K5+L5+M5 -> 60538.684 | Q5: =P5-O5 -> 6296.9573 | R5: =Q5+J5 -> -11523.633 | S5: 4.5 | T5: =S5-F5 -> 0.59 | U5: 49491.065 | V5: =U5-Q5 -> 43194.108
A6: 4 | B6: Turniejowa 65 | C6: =2928.1+336.6*0.6+412 -> 3542.06 | D6: 68 | E6: =C6-D6 -> 3474.06 | F6: 3.67 | G6: -20530.97 | H6: 7998.72 | I6: 6602.62 | J6: =G6+H6+I6 -> -5929.63 | K6: 272.16 | L6: =$L$34/$E$32*E6 -> 9002.7632 | M6: =(ROUND($L$32/$E$32*D6,2)+(D6*0.16*12))*2/12 -> 51.13 | N6: 136962.23 | O6: =N6+'Zał 6.1. 25-01-2024'!L6 -> 151819.31 | P6: =ROUND(C6*F6*5+S6*C6*7,2)+K6+L6+M6 -> 171021.09 | Q6: =P6-O6 -> 19201.785 | R6: =Q6+J6 -> 13272.155 | S6: 3.9 | T6: =S6-F6 -> 0.23 | U6: 136962.23 | V6: =U6-Q6 -> 117760.44
A7: 5 | B7: Turniejowa 65A | C7: =5933.6+64.2 -> 5997.8 | D7: 414.9 | E7: =C7-D7 -> 5582.9 | F7: 3.28 | G7: -22229.22 | H7: 15790.72 | I7: 10610.57 | J7: =G7+H7+I7 -> 4172.07 | K7: 0 | L7: =$L$34/$E$32*E7 -> 14467.662 | M7: =(ROUND($L$32/$E$32*D7,2)+(D7*0.16*12))*2/12 -> 311.96467 | N7: 213902.61 | O7: =N7+'Zał 6.1. 25-01-2024'!L7 -> 239060.23 | P7: =ROUND(C7*F7*5+S7*C7*7,2)+K7+L7+M7 -> 250853.04 | Q7: =P7-O7 -> 11792.806 | R7: =Q7+J7 -> 15964.876 | S7: 3.28 | T7: =S7-F7 -> 0 | U7: 213902.61 | V7: =U7-Q7 -> 202109.81
A8: 6 | B8: Kordiana 52 | C8: 2721.99 | D8: 146.34 | E8: =C8-D8 -> 2575.65 | F8: 3.62 | G8: -20880.55 | H8: 16571.41 | I8: 4895.14 | J8: =G8+H8+I8 -> 586 | K8: 0 | L8: =$L$34/$E$32*E8 -> 6674.6017 | M8: =(ROUND($L$32/$E$32*D8,2)+(D8*0.16*12))*2/12 -> 110.0338 | N8: 94187.507 | O8: =N8+'Zał 6.1. 25-01-2024'!L8 -> 105604.82 | P8: =ROUND(C8*F8*5+S8*C8*7,2)+K8+L8+M8 -> 125027.89 | Q8: =P8-O8 -> 19423.061 | R8: =Q8+J8 -> 20009.061 | S8: 3.62 | T8: =S8-F8 -> 0 | U8: 94187.507 | V8: =U8-Q8 -> 74764.446
A9: 7 | B9: Kordiana 54 | C9: =3970.72+353.27*0.6 -> 4182.682 | D9: 284.23 | E9: =C9-D9 -> 3898.452 | F9: 3.63 | G9: -22896.81 | H9: 19821.44 | I9: 7409.2 | J9: =G9+H9+I9 -> 4333.83 | K9: 0 | L9: =$L$34/$E$32*E9 -> 10102.543 | M9: =(ROUND($L$32/$E$32*D9,2)+(D9*0.16*12))*2/12 -> 213.7136 | N9: 150775.55 | O9: =N9+'Zał 6.1. 25-01-2024'!L9 -> 168319.7 | P9: =ROUND(C9*F9*5+S9*C9*7,2)+K9+L9+M9 -> 192513.89 | Q9: =P9-O9 -> 24194.188 | R9: =Q9+J9 -> 28528.018 | S9: 3.63 | T9: =S9-F9 -> 0 | U9: 150775.55 | V9: =U9-Q9 -> 126581.36
A10: 8 | B10: Kordiana 56 | C10: 6192.08 | D10: 912.99 | E10: =C10-D10 -> 5279.09 | F10: 3.52 | G10: -32955.71 | H10: 19755.44 | I10: 10148.7 | J10: =G10+H10+I10 -> -3051.57 | K10: 136.08 | L10: =$L$34/$E$32*E10 -> 13680.362 | M10: =(ROUND($L$32/$E$32*D10,2)+(D10*0.16*12))*2/12 -> 686.48013 | N10: 230410.17 | O10: =N10+'Zał 6.1. 25-01-2024'!L10 -> 256382.69 | P10: =ROUND(C10*F10*5+S10*C10*7,2)+K10+L10+M10 -> 276056.38 | Q10: =P10-O10 -> 19673.694 | R10: =Q10+J10 -> 16622.124 | S10: 3.52 | T10: =S10-F10 -> 0 | U10: 230410.17 | V10: =U10-Q10 -> 210736.47
A11: 9 | B11: Kordiana 58 | C11: =1411+188.64*0.6 -> 1524.184 | D11: 185.41 | E11: =C11-D11 -> 1338.774 | F11: 3.64 | G11: -15159.1 | H11: 1884.58 | I11: 2544.41 | J11: =G11+H11+I11 -> -10730.11 | K11: 0 | L11: =$L$34/$E$32*E11 -> 3469.3313 | M11: =(ROUND($L$32/$E$32*D11,2)+(D11*0.16*12))*2/12 -> 139.4112 | N11: 61155.922 | O11: =N11+'Zał 6.1. 25-01-2024'!L11 -> 67549.073 | P11: =ROUND(C11*F11*5+S11*C11*7,2)+K11+L11+M11 -> 75306.363 | Q11: =P11-O11 -> 7757.29 | R11: =Q11+J11 -> -2972.82 | S11: 4.12 | T11: =S11-F11 -> 0.48 | U11: 61155.922 | V11: =U11-Q11 -> 53398.632
A12: 10 | B12: Kordiana 58A | C12: =1525.18+190.8*0.6 -> 1639.66 | D12: 196.39 | E12: =C12-D12 -> 1443.27 | F12: 3.38 | G12: -8533.63 | H12: -431.76 | I12: 2743 | J12: =G12+H12+I12 -> -6222.39 | K12: 0 | L12: =$L$34/$E$32*E12 -> 3740.1248 | M12: =(ROUND($L$32/$E$32*D12,2)+(D12*0.16*12))*2/12 -> 147.66647 | N12: 63881.924 | O12: =N12+'Zał 6.1. 25-01-2024'!L12 -> 70759.435 | P12: =ROUND(C12*F12*5+S12*C12*7,2)+K12+L12+M12 -> 76934.641 | Q12: =P12-O12 -> 6175.2058 | R12: =Q12+J12 -> -47.18422 | S12: 3.95 | T12: =S12-F12 -> 0.57 | U12: 63881.924 | V12: =U12-Q12 -> 57706.718
A13: 11 | B13: Kordiana 58B | C13: =1423.32+189.72*0.6 -> 1537.152 | D13: 135.54 | E13: =C13-D13 -> 1401.612 | F13: 3.64 | G13: -13423.23 | H13: -2643.47 | I13: 2663.83 | J13: =G13+H13+I13 -> -13402.87 | K13: 0 | L13: =$L$34/$E$32*E13 -> 3632.1713 | M13: =(ROUND($L$32/$E$32*D13,2)+(D13*0.16*12))*2/12 -> 101.9128 | N13: 66287.564 | O13: =N13+'Zał 6.1. 25-01-2024'!L13 -> 72735.108 | P13: =ROUND(C13*F13*5+S13*C13*7,2)+K13+L13+M13 -> 76041.714 | Q13: =P13-O13 -> 3306.6057 | R13: =Q13+J13 -> -10096.264 | S13: 4.12 | T13: =S13-F13 -> 0.48 | U13: 66287.564 | V13: =U13-Q13 -> 62980.958
A14: 12 | B14: Kordiana 60 | C14: =4316.48+499.93*0.6+155.4 -> 4771.838 | D14: 354.54 | E14: =C14-D14 -> 4417.298 | F14: 3.54 | G14: -24357.41 | H14: 11102.12 | I14: 8395.29 | J14: =G14+H14+I14 -> -4860 | K14: 276.58 | L14: =$L$34/$E$32*E14 -> 11447.093 | M14: =(ROUND($L$32/$E$32*D14,2)+(D14*0.16*12))*2/12 -> 266.57947 | N14: 180721.56 | O14: =N14+'Zał 6.1. 25-01-2024'!L14 -> 200736.92 | P14: =ROUND(C14*F14*5+S14*C14*7,2)+K14+L14+M14 -> 222380.59 | Q14: =P14-O14 -> 21643.677 | R14: =Q14+J14 -> 16783.677 | S14: 3.77 | T14: =S14-F14 -> 0.23 | U14: 180721.56 | V14: =U14-Q14 -> 159077.89
A15: 13 | B15: Kordiana 66 | C15: =3184.69+431.21*0.6 -> 3443.416 | D15: 293.58 | E15: =C15-D15 -> 3149.836 | F15: 3.4 | G15: -8959.1 | H15: 2333.45 | I15: 6045.22 | J15: =G15+H15+I15 -> -580.43 | K15: 6915.87 | L15: =$L$34/$E$32*E15 -> 8162.5612 | M15: =(ROUND($L$32/$E$32*D15,2)+(D15*0.16*12))*2/12 -> 220.74393 | N15: 141943.5 | O15: =N15+'Zał 6.1. 25-01-2024'!L15 -> 156386.82 | P15: =ROUND(C15*F15*5+S15*C15*7,2)+K15+L15+M15 -> 161334.45 | Q15: =P15-O15 -> 4947.6223 | R15: =Q15+J15 -> 4367.1923 | S15: 3.63 | T15: =S15-F15 -> 0.23 | U15: 141943.5 | V15: =U15-Q15 -> 136995.88
A16: 14 | B16: Kordiana 68 | C16: =4450.83+483.4*0.6 -> 4740.87 | D16: 106.61 | E16: =C16-D16 -> 4634.26 | F16: 3.42 | G16: -21438.75 | H16: 10827.02 | I16: 8807.64 | J16: =G16+H16+I16 -> -1804.09 | K16: 0 | L16: =$L$34/$E$32*E16 -> 12009.334 | M16: =(ROUND($L$32/$E$32*D16,2)+(D16*0.16*12))*2/12 -> 80.1602 | N16: 178692.56 | O16: =N16+'Zał 6.1. 25-01-2024'!L16 -> 198578.02 | P16: =ROUND(C16*F16*5+S16*C16*7,2)+K16+L16+M16 -> 214287.6 | Q16: =P16-O16 -> 15709.581 | R16: =Q16+J16 -> 13905.491 | S16: 3.65 | T16: =S16-F16 -> 0.23 | U16: 178692.56 | V16: =U16-Q16 -> 162982.98
A17: 15 | B17: Orawska 3 | C17: 1642.74 | D17: 72.43 | E17: =C17-D17 -> 1570.31 | F17: 3.9 | G17: -19901.8 | H17: 8033.06 | I17: 2984.46 | J17: =G17+H17+I17 -> -8884.28 | K17: 0 | L17: =$L$34/$E$32*E17 -> 4069.3393 | M17: =(ROUND($L$32/$E$32*D17,2)+(D17*0.16*12))*2/12 -> 54.460933 | N17: 70897.876 | O17: =N17+'Zał 6.1. 25-01-2024'!L17 -> 77788.307 | P17: =ROUND(C17*F17*5+S17*C17*7,2)+K17+L17+M17 -> 85603.7 | Q17: =P17-O17 -> 7815.3931 | R17: =Q17+J17 -> -1068.8869 | S17: 4.3 | T17: =S17-F17 -> 0.4 | U17: 70897.876 | V17: =U17-Q17 -> 63082.483
A18: 16 | B18: Starowiślna 88 | C18: =2679.9+529.2 -> 3209.1 | D18: 113 | E18: =C18-D18 -> 3096.1 | F18: 3.53 | G18: -18123.39 | H18: -5450.94 | I18: 5884.29 | J18: =G18+H18+I18 -> -17690.04 | K18: 5730.75 | L18: =$L$34/$E$32*E18 -> 8023.3085 | M18: =(ROUND($L$32/$E$32*D18,2)+(D18*0.16*12))*2/12 -> 84.965 | N18: 139693.02 | O18: =N18+'Zał 6.1. 25-01-2024'!L18 -> 153153.5 | P18: =ROUND(C18*F18*5+S18*C18*7,2)+K18+L18+M18 -> 162580.81 | Q18: =P18-O18 -> 9427.3085 | R18: =Q18+J18 -> -8262.7315 | S18: 4.1 | T18: =S18-F18 -> 0.57 | U18: 139693.02 | V18: =U18-Q18 -> 130265.71
A19: 17 | B19: Na Zjeździe 13 | C19: =1236.91+216.09 -> 1453 | D19: 35.11 | E19: =C19-D19 -> 1417.89 | F19: 3.83 | G19: -17166.72 | H19: 6204.57 | I19: 2694.77 | J19: =G19+H19+I19 -> -8267.38 | K19: 842.23 | L19: =$L$34/$E$32*E19 -> 3674.3545 | M19: =(ROUND($L$32/$E$32*D19,2)+(D19*0.16*12))*2/12 -> 26.398533 | N19: 57933.436 | O19: =N19+'Zał 6.1. 25-01-2024'!L19 -> 64028.008 | P19: =ROUND(C19*F19*5+S19*C19*7,2)+K19+L19+M19 -> 73662.193 | Q19: =P19-O19 -> 9634.1854 | R19: =Q19+J19 -> 1366.8054 | S19: 4.06 | T19: =S19-F19 -> 0.23 | U19: 57933.436 | V19: =U19-Q19 -> 48299.251
A20: 18 | B20: Ceglarska 21 | C20: =1304.25+75.4*0.6+23.5 -> 1372.99 | D20: 132.4 | E20: =C20-D20 -> 1240.59 | F20: 4.26 | G20: -35875.85 | H20: 1825.99 | I20: 2357.8 | J20: =G20+H20+I20 -> -31692.06 | K20: 0 | L20: =$L$34/$E$32*E20 -> 3214.895 | M20: =(ROUND($L$32/$E$32*D20,2)+(D20*0.16*12))*2/12 -> 99.551333 | N20: 64681.648 | O20: =N20+'Zał 6.1. 25-01-2024'!L20 -> 70440.62 | P20: =ROUND(C20*F20*5+S20*C20*7,2)+K20+L20+M20 -> 77153.846 | Q20: =P20-O20 -> 6713.2267 | R20: =Q20+J20 -> -24978.833 | S20: 4.64 | T20: =S20-F20 -> 0.38 | U20: 64681.648 | V20: =U20-Q20 -> 57968.421
A21: 19 | B21: Ceglarska 23 | C21: =4083.6+625.9*0.6+161 -> 4620.14 | D21: 475.4 | E21: =C21-D21 -> 4144.74 | F21: 3.97 | G21: -38831.81 | H21: 16516.69 | I21: 7877.28 | J21: =G21+H21+I21 -> -14437.84 | K21: 0 | L21: =$L$34/$E$32*E21 -> 10740.78 | M21: =(ROUND($L$32/$E$32*D21,2)+(D21*0.16*12))*2/12 -> 357.45467 | N21: 186899.41 | O21: =N21+'Zał 6.1. 25-01-2024'!L21 -> 206278.47 | P21: =ROUND(C21*F21*5+S21*C21*7,2)+K21+L21+M21 -> 238640.13 | Q21: =P21-O21 -> 32361.664 | R21: =Q21+J21 -> 17923.824 | S21: 4.2 | T21: =S21-F21 -> 0.23 | U21: 186899.41 | V21: =U21-Q21 -> 154537.75
A22: 20 | B22: Ceglarska 25 | C22: =4177.7+643.6*0.6+109.1 -> 4672.96 | D22: 165.6 | E22: =C22-D22 -> 4507.36 | F22: 3.71 | G22: -26388.35 | H22: 9720.48 | I22: 8566.46 | J22: =G22+H22+I22 -> -8101.41 | K22: 699.84 | L22: =$L$34/$E$32*E22 -> 11680.482 | M22: =(ROUND($L$32/$E$32*D22,2)+(D22*0.16*12))*2/12 -> 124.51533 | N22: 187368.82 | O22: =N22+'Zał 6.1. 25-01-2024'!L22 -> 206969.43 | P22: =ROUND(C22*F22*5+S22*C22*7,2)+K22+L22+M22 -> 228068.48 | Q22: =P22-O22 -> 21099.049 | R22: =Q22+J22 -> 12997.639 | S22: 3.94 | T22: =S22-F22 -> 0.23 | U22: 187368.82 | V22: =U22-Q22 -> 166269.77
A23: 21 | B23: Ceglarska 27 | C23: =2637.6+388.5*0.6+286.7 -> 3157.4 | D23: 78.9 | E23: =C23-D23 -> 3078.5 | F23: 3.87 | G23: -33588.48 | H23: 4082.77 | I23: 5880.87 | J23: =G23+H23+I23 -> -23624.84 | K23: 0 | L23: =$L$34/$E$32*E23 -> 7977.6994 | M23: =(ROUND($L$32/$E$32*D23,2)+(D23*0.16*12))*2/12 -> 59.324667 | N23: 128058.71 | O23: =N23+'Zał 6.1. 25-01-2024'!L23 -> 141302.34 | P23: =ROUND(C23*F23*5+S23*C23*7,2)+K23+L23+M23 -> 161960.27 | Q23: =P23-O23 -> 20657.932 | R23: =Q23+J23 -> -2966.9075 | S23: 4.2 | T23: =S23-F23 -> 0.33 | U23: 128058.71 | V23: =U23-Q23 -> 107400.78
A24: 22 | B24: Św. Jacka 22 | C24: =5765.6+440.9*0.6+75.1 -> 6105.24 | D24: 809.7 | E24: =C24-D24 -> 5295.54 | F24: 4.04 | G24: -70529.71 | H24: 23755.73 | I24: 10106.62 | J24: =G24+H24+I24 -> -36667.36 | K24: 0 | L24: =$L$34/$E$32*E24 -> 13722.991 | M24: =(ROUND($L$32/$E$32*D24,2)+(D24*0.16*12))*2/12 -> 608.81733 | N24: 252350.56 | O24: =N24+'Zał 6.1. 25-01-2024'!L24 -> 277958.83 | P24: =ROUND(C24*F24*5+S24*C24*7,2)+K24+L24+M24 -> 320143.28 | Q24: =P24-O24 -> 42184.448 | R24: =Q24+J24 -> 5517.0878 | S24: 4.27 | T24: =S24-F24 -> 0.23 | U24: 252350.56 | V24: =U24-Q24 -> 210166.11
A25: 23 | B25: Szwedzka 23 | C25: =4968.38+777.86*0.6+149.35 -> 5584.446 | D25: 477.05 | E25: =C25-D25 -> 5107.396 | F25: 4.01 | G25: -45620.79 | H25: 7181.84 | I25: 9706.85 | J25: =G25+H25+I25 -> -28732.1 | K25: 751.03 | L25: =$L$34/$E$32*E25 -> 13235.43 | M25: =(ROUND($L$32/$E$32*D25,2)+(D25*0.16*12))*2/12 -> 358.696 | N25: 243105.65 | O25: =N25+'Zał 6.1. 25-01-2024'!L25 -> 266529.47 | P25: =ROUND(C25*F25*5+S25*C25*7,2)+K25+L25+M25 -> 295968.77 | Q25: =P25-O25 -> 29439.298 | R25: =Q25+J25 -> 707.19812 | S25: 4.34 | T25: =S25-F25 -> 0.33 | U25: 243105.65 | V25: =U25-Q25 -> 213666.35
A26: 24 | B26: Konopczyńskiego 7 | C26: =5503.34+1009.29*0.6 -> 6108.914 | D26: 1929.55 | E26: =C26-D26 -> 4179.364 | F26: 3.24 | G26: -30045.47 | H26: 12103.2 | I26: 7996.36 | J26: =G26+H26+I26 -> -9945.91 | K26: 1435.91 | L26: =$L$34/$E$32*E26 -> 10830.505 | M26: =(ROUND($L$32/$E$32*D26,2)+(D26*0.16*12))*2/12 -> 1450.836 | N26: 219060.92 | O26: =N26+'Zał 6.1. 25-01-2024'!L26 -> 244684.6 | P26: =ROUND(C26*F26*5+S26*C26*7,2)+K26+L26+M26 -> 261067.18 | Q26: =P26-O26 -> 16382.58 | R26: =Q26+J26 -> 6436.6696 | S26: 3.47 | T26: =S26-F26 -> 0.23 | U26: 219060.92 | V26: =U26-Q26 -> 202678.34
A27: 25 | B27: Konopczyńskiego 7A | C27: =7380.28+2363.57*0.6 -> 8798.422 | D27: 2122.57 | E27: =C27-D27 -> 6675.852 | F27: 2.8 | G27: 11040.98 | H27: -14641.1 | I27: 12863.95 | J27: =G27+H27+I27 -> 9263.83 | K27: 11507.23 | L27: =$L$34/$E$32*E27 -> 17299.964 | M27: =(ROUND($L$32/$E$32*D27,2)+(D27*0.16*12))*2/12 -> 1595.9691 | N27: 312054.21 | O27: =N27+'Zał 6.1. 25-01-2024'!L27 -> 348958.97 | P27: =ROUND(C27*F27*5+S27*C27*7,2)+K27+L27+M27 -> 340195.6 | Q27: =P27-O27 -> -8763.364 | R27: =Q27+J27 -> 500.46605 | S27: 3.03 | T27: =S27-F27 -> 0.23 | U27: 312054.21 | V27: =U27-Q27 -> 320817.58
A28: 26 | B28: Cegl.27A-garaże | C28: =312.2*0.6 -> 187.32 | D28: 31.23 | E28: =C28-D28 -> 156.09 | F28: 1.65 | G28: 1898.29 | H28: 2102.28 | I28: 296.66 | J28: =G28+H28+I28 -> 4297.23 | K28: 0 | L28: =$L$34/$E$32*E28 -> 404.4954 | M28: =(ROUND($L$32/$E$32*D28,2)+(D28*0.16*12))*2/12 -> 23.481933 | N28: 3455.7164 | O28: =N28+'Zał 6.1. 25-01-2024'!L28 -> 4241.4253 | P28: =ROUND(C28*F28*5+S28*C28*7,2)+K28+L28+M28 -> 4438.4973 | Q28: =P28-O28 -> 197.07203 | R28: =Q28+J28 -> 4494.302 | S28: 1.88 | T28: =S28-F28 -> 0.23 | U28: 3455.7164 | V28: =U28-Q28 -> 3258.6443
A29: 27 | B29: Piltza 29 | C29: =4246.69+1830.5*0.6 -> 5344.99 | D29: 1098.01 | E29: =C29-D29 -> 4246.98 | F29: 3.17 | G29: -23489.46 | H29: -13355.19 | I29: 8241.28 | J29: =G29+H29+I29 -> -28603.37 | K29: 8630.18 | L29: =$L$34/$E$32*E29 -> 11005.727 | M29: =(ROUND($L$32/$E$32*D29,2)+(D29*0.16*12))*2/12 -> 825.5982 | N29: 219088.71 | O29: =N29+'Zał 6.1. 25-01-2024'!L29 -> 241508.13 | P29: =ROUND(C29*F29*5+S29*C29*7,2)+K29+L29+M29 -> 258580.8 | Q29: =P29-O29 -> 17072.675 | R29: =Q29+J29 -> -11530.695 | S29: 4.1 | T29: =S29-F29 -> 0.93 | U29: 219088.71 | V29: =U29-Q29 -> 202016.03
A30: 28 | B30: Piltza 33 | C30: =3067.13+1433.95*0.6 -> 3927.5 | D30: 1192.67 | E30: =C30-D30 -> 2734.83 | F30: 3.41 | G30: -8398.36 | H30: -4508.12 | I30: 5364.86 | J30: =G30+H30+I30 -> -7541.62 | K30: 1701 | L30: =$L$34/$E$32*E30 -> 7087.1047 | M30: =(ROUND($L$32/$E$32*D30,2)+(D30*0.16*12))*2/12 -> 896.77273 | N30: 161557.67 | O30: =N30+'Zał 6.1. 25-01-2024'!L30 -> 178031.47 | P30: =ROUND(C30*F30*5+S30*C30*7,2)+K30+L30+M30 -> 183869.51 | Q30: =P30-O30 -> 5838.0396 | R30: =Q30+J30 -> -1703.5804 | S30: 3.9 | T30: =S30-F30 -> 0.49 | U30: 161557.67 | V30: =U30-Q30 -> 155719.63
A31: 29 | B31: Piltza 35 | C31: =5704.86+2678.54*0.6 -> 7311.984 | D31: 1347.08 | E31: =C31-D31 -> 5964.904 | F31: 3.47 | G31: -30504 | H31: -8962.08 | I31: 11504.53 | J31: =G31+H31+I31 -> -27961.55 | K31: 3962.33 | L31: =$L$34/$E$32*E31 -> 15457.597 | M31: =(ROUND($L$32/$E$32*D31,2)+(D31*0.16*12))*2/12 -> 1012.8756 | N31: 314440.66 | O31: =N31+'Zał 6.1. 25-01-2024'!L31 -> 345110.59 | P31: =ROUND(C31*F31*5+S31*C31*7,2)+K31+L31+M31 -> 359708.86 | Q31: =P31-O31 -> 14598.27 | R31: =Q31+J31 -> -13363.28 | S31: 4.15 | T31: =S31-F31 -> 0.68 | U31: 314440.66 | V31: =U31-Q31 -> 299842.39
B32: Suma | C32: =SUM(C3:C31) -> 110005.28 | D32: =SUM(D3:D31) -> 13533.23 | E32: =SUM(E3:E31) -> 96472.048 | F32: =SUM(F3:F31)/29 -> 3.5393103 | G32: =SUM(G3:G31) -> -649373.96 | H32: =SUM(H3:H31) -> 156598.47 | I32: =SUM(I3:I31) -> 184330.63 | J32: =SUM(J3:J31) -> -308444.86 | K32: =SUM(K3:K31) -> 43643.65 | L32: =SUM(L3:L31) -> 250000 | M32: =SUM(M3:M31) -> 10175.687 | N32: =SUM(N3:N31) -> 4328107.9 | ... R32: =SUM(R3:R31) -> 97250.538 | S32: =SUM(S3:S31)/29 -> 3.8641379 | T32: =SUM(T3:T31)/29 -> 0.32482759 | U32: 4328107.9 | V32: =U32-Q32 -> 3922412.5
E34: =O35/E32/12 -> 0 | L34: 250000
D41: =D32/C32 -> 0.12302346

Sheet Zał 6.1. 25-01-2024
A1: L.P. | B1: NIERUCHOMOŚĆ | C1: Ilość m2 pow.Użytk. Mieszkań, garaży i lok.użytk. | D1: Pow. Użytk. Mieszk., garaży BEZ CZŁONKOWSTWA | E1: Pow. Użytk. Mieszk., garaży z CZŁONKOWSTWEM | F1: Obowiązująca stawka eksploatacyjna od 01.01.2024 r. w zł/m2/m-c | G1: Podwyżki dla pracowników, które będą obowiązywać od 1.01.2024 r., stąd wzrost F-szu Płac w wys. o 84 960 zł + Narzuty ZUS o kwotę 16 550 zł razem: 101 510,00 zł | H1: Wzrost Konserwacji o kwotę 68 618,00 zł | I1: Wzrost Usług Sprzątania nieruchomości o kwotę 170 467,32 zł | J1: Wzrost kosztów ubezpieczenia zasobów o kwotę 19 189,00 zł | K1: Wzrost pozostałych kosztów z tyt. inflacji (6,6%) o kwotę 101 630 zł | L1: Razem wzrost kosztów w 2023 r. o kwotę 460 726,32 zł (rubr. 7 + 8+ 9+10+11) w zł | M1: Wyliczenie wzrostu stawki eksploatacyjnej w przelicz. Na 7 m-cy dot. wzrostu kosztów od rubr. 7 - do rubr. 11 (rubr.12/rubr.3/ 7 m-cy) w zł/m2 | N1: Dofinansowanie kosztów Eksploatacji z NADWYŻKI BILANSOWEJ w wys. 250 000 zł ZA 2023 R. SM"DdM" | O1: Razem proponowana podwyżka stawki eksploatacyjnej (rubr. 13 - 14) [w zł/m2 /m-c] | P1: Stawka Eksploatacyjna uwzględniająca wzrost kosztów obowiązująca od 1 czerwca 2024 r. (rubr. 6 + rubr. 15) w zł/m2/m-c | R1: Sprawdzenie: Wzrost kosztów poz. 10
A2: 1 | B2: 2 | C2: 3 | D2: 4 | E2: 5 | F2: 6 | G2: 7 | H2: 8 | I2: 9 | J2: 10 | K2: 11 | L2: 12 | M2: 13 | N2: 14 | O2: 15 | P2: 16
A3: 1 | B3: Turniejowa 59 | C3: 3445.5 | D3: 160.9 | E3: =C3-D3 -> 3284.6 | F3: 3.56 | G3: =$G$34/$C$32*C3 -> 3179.4175 | H3: =$H$34/$C$32*C3 -> 2149.1998 | I3: =$I$36/$C$32*C3 -> 5339.2452 | J3: =$J$34/$C$32*C3 -> 601.02298 | K3: =$K$34/$C$32*C3 -> 3183.176 | L3: =G3+H3+I3+J3+K3 -> 14452.061 | M3: =ROUND(L3/C3/7,2) -> 0.6 | N3: =ROUND($N$34/$E$32/7,2) -> 0.37 | O3: =M3-N3+'Zał 7 25-01-2024'!L3 -> 0.23 | P3: =F3+O3 -> 3.79 | R3: =ROUND(M3*C3*7,2) -> 14471.1 | S3: =P3-'Zał 7 25-01-2024'!K3 -> 0
A4: 2 | B4: Turniejowa 61 | C4: 1636.3 | D4: 75.9 | E4: =C4-D4 -> 1560.4 | F4: 3.57 | G4: =$G$34/$C$32*C4 -> 1509.9349 | H4: =$H$34/$C$32*C4 -> 1020.675 | I4: =$I$36/$C$32*C4 -> 2535.6572 | J4: =$J$34/$C$32*C4 -> 285.4314 | K4: =$K$34/$C$32*C4 -> 1511.7199 | L4: =G4+H4+I4+J4+K4 -> 6863.4184 | M4: =ROUND(L4/C4/7,2) -> 0.6 | N4: =ROUND($N$34/$E$32/7,2) -> 0.37 | O4: =M4-N4+'Zał 7 25-01-2024'!L4+0.2 -> 0.43 | P4: =F4+O4 -> 4 | R4: =ROUND(M4*C4*7,2) -> 6872.46 | S4: =P4-'Zał 7 25-01-2024'!K4 -> 0
A5: 3 | B5: Turniejowa 63 | C5: 1132.6 | D5: 117.2 | E5: =C5-D5 -> 1015.4 | F5: 3.91 | G5: =$G$34/$C$32*C5 -> 1045.1337 | H5: =$H$34/$C$32*C5 -> 706.48198 | I5: =$I$36/$C$32*C5 -> 1755.1093 | J5: =$J$34/$C$32*C5 -> 197.56744 | K5: =$K$34/$C$32*C5 -> 1046.3692 | L5: =G5+H5+I5+J5+K5 -> 4750.6617 | M5: =ROUND(L5/C5/7,2) -> 0.6 | N5: =ROUND($N$34/$E$32/7,2) -> 0.37 | O5: =M5-N5+'Zał 7 25-01-2024'!L5+0.36 -> 0.59 | P5: =F5+O5 -> 4.5 | R5: =ROUND(M5*C5*7,2) -> 4756.92 | S5: =P5-'Zał 7 25-01-2024'!K5 -> 0
A6: 4 | B6: Turniejowa 65 | C6: =2928.1+336.6*0.6+412 -> 3542.06 | D6: 68 | E6: =C6-D6 -> 3474.06 | F6: 3.67 | G6: =$G$34/$C$32*C6 -> 3268.5205 | H6: =$H$34/$C$32*C6 -> 2209.431 | I6: =$I$36/$C$32*C6 -> 5488.8773 | J6: =$J$34/$C$32*C6 -> 617.86662 | K6: =$K$34/$C$32*C6 -> 3272.3844 | L6: =G6+H6+I6+J6+K6 -> 14857.08 | M6: =ROUND(L6/C6/7,2) -> 0.6 | N6: =ROUND($N$34/$E$32/7,2) -> 0.37 | O6: =M6-N6+'Zał 7 25-01-2024'!L6 -> 0.23 | P6: =F6+O6 -> 3.9 | R6: =ROUND(M6*C6*7,2) -> 14876.65 | S6: =P6-'Zał 7 25-01-2024'!K6 -> 0
A7: 5 | B7: Turniejowa 65A | C7: =5933.6+64.2 -> 5997.8 | D7: 414.9 | E7: =C7-D7 -> 5582.9 | F7: 3.28 | G7: =$G$34/$C$32*C7 -> 5534.6133 | H7: =$H$34/$C$32*C7 -> 3741.2481 | I7: =$I$36/$C$32*C7 -> 9294.3621 | J7: =$J$34/$C$32*C7 -> 1046.2387 | K7: =$K$34/$C$32*C7 -> 5541.1561 | L7: =G7+H7+I7+J7+K7 -> 25157.618 | M7: =ROUND(L7/C7/7,2) -> 0.6 | N7: =ROUND($N$34/$E$32/7,2) -> 0.37 | O7: =M7-N7+'Zał 7 25-01-2024'!L7-0.23 -> 0 | P7: =F7+O7 -> 3.28 | R7: =ROUND(M7*C7*7,2) -> 25190.76 | S7: =P7-'Zał 7 25-01-2024'!K7 -> 0
A8: 6 | B8: Kordiana 52 | C8: 2721.99 | D8: 146.34 | E8: =C8-D8 -> 2575.65 | F8: 3.62 | G8: =$G$34/$C$32*C8 -> 2511.7813 | H8: =$H$34/$C$32*C8 -> 1697.8959 | I8: =$I$36/$C$32*C8 -> 4218.0734 | J8: =$J$34/$C$32*C8 -> 474.816 | K8: =$K$34/$C$32*C8 -> 2514.7506 | L8: =G8+H8+I8+J8+K8 -> 11417.317 | M8: =ROUND(L8/C8/7,2) -> 0.6 | N8: =ROUND($N$34/$E$32/7,2) -> 0.37 | O8: =M8-N8+'Zał 7 25-01-2024'!L8-0.23 -> 0 | P8: =F8+O8 -> 3.62 | R8: =ROUND(M8*C8*7,2) -> 11432.36 | S8: =P8-'Zał 7 25-01-2024'!K8 -> 0
A9: 7 | B9: Kordiana 54 | C9: =3970.72+353.27*0.6 -> 4182.682 | D9: 284.23 | E9: =C9-D9 -> 3898.452 | F9: 3.63 | G9: =$G$34/$C$32*C9 -> 3859.6698 | H9: =$H$34/$C$32*C9 -> 2609.0318 | I9: =$I$36/$C$32*C9 -> 6481.6035 | J9: =$J$34/$C$32*C9 -> 729.61485 | K9: =$K$34/$C$32*C9 -> 3864.2325 | L9: =G9+H9+I9+J9+K9 -> 17544.152 | M9: =ROUND(L9/C9/7,2) -> 0.6 | N9: =ROUND($N$34/$E$32/7,2) -> 0.37 | O9: =M9-N9+'Zał 7 25-01-2024'!L9-0.23 -> 0 | P9: =F9+O9 -> 3.63 | R9: =ROUND(M9*C9*7,2) -> 17567.26 | S9: =P9-'Zał 7 25-01-2024'!K9 -> 0
A10: 8 | B10: Kordiana 56 | C10: 6192.08 | D10: 912.99 | E10: =C10-D10 -> 5279.09 | F10: 3.52 | G10: =$G$34/$C$32*C10 -> 5713.8898 | H10: =$H$34/$C$32*C10 -> 3862.4342 | I10: =$I$36/$C$32*C10 -> 9595.424 | J10: =$J$34/$C$32*C10 -> 1080.1284 | K10: =$K$34/$C$32*C10 -> 5720.6445 | L10: =G10+H10+I10+J10+K10 -> 25972.521 | M10: =ROUND(L10/C10/7,2) -> 0.6 | N10: =ROUND($N$34/$E$32/7,2) -> 0.37 | O10: =M10-N10+'Zał 7 25-01-2024'!L10-0.23 -> 0 | P10: =F10+O10 -> 3.52 | R10: =ROUND(M10*C10*7,2) -> 26006.74 | S10: =P10-'Zał 7 25-01-2024'!K10 -> 0
A11: 9 | B11: Kordiana 58 | C11: =1411+188.64*0.6 -> 1524.184 | D11: 185.41 | E11: =C11-D11 -> 1338.774 | F11: 3.64 | G11: =$G$34/$C$32*C11 -> 1406.4772 | H11: =$H$34/$C$32*C11 -> 950.74036 | I11: =$I$36/$C$32*C11 -> 2361.919 | J11: =$J$34/$C$32*C11 -> 265.87421 | K11: =$K$34/$C$32*C11 -> 1408.1399 | L11: =G11+H11+I11+J11+K11 -> 6393.1507 | M11: =ROUND(L11/C11/7,2) -> 0.6 | N11: =ROUND($N$34/$E$32/7,2) -> 0.37 | O11: =M11-N11+'Zał 7 25-01-2024'!L11+0.25 -> 0.48 | P11: =F11+O11 -> 4.12 | R11: =ROUND(M11*C11*7,2) -> 6401.57 | S11: =P11-'Zał 7 25-01-2024'!K11 -> 0
A12: 10 | B12: Kordiana 58A | C12: =1525.18+190.8*0.6 -> 1639.66 | D12: 196.39 | E12: =C12-D12 -> 1443.27 | F12: 3.38 | G12: =$G$34/$C$32*C12 -> 1513.0355 | H12: =$H$34/$C$32*C12 -> 1022.7708 | I12: =$I$36/$C$32*C12 -> 2540.864 | J12: =$J$34/$C$32*C12 -> 286.01751 | K12: =$K$34/$C$32*C12 -> 1514.8241 | L12: =G12+H12+I12+J12+K12 -> 6877.5119 | M12: =ROUND(L12/C12/7,2) -> 0.6 | N12: =ROUND($N$34/$E$32/7,2) -> 0.37 | O12: =M12-N12+'Zał 7 25-01-2024'!L12+0.34 -> 0.57 | P12: =F12+O12 -> 3.95 | R12: =ROUND(M12*C12*7,2) -> 6886.57 | S12: =P12-'Zał 7 25-01-2024'!K12 -> 0
A13: 11 | B13: Kordiana 58B | C13: =1423.32+189.72*0.6 -> 1537.152 | D13: 135.54 | E13: =C13-D13 -> 1401.612 | F13: 3.64 | G13: =$G$34/$C$32*C13 -> 1418.4438 | H13: =$H$34/$C$32*C13 -> 958.82941 | I13: =$I$36/$C$32*C13 -> 2382.0146 | J13: =$J$34/$C$32*C13 -> 268.13631 | K13: =$K$34/$C$32*C13 -> 1420.1206 | L13: =G13+H13+I13+J13+K13 -> 6447.5447 | M13: =ROUND(L13/C13/7,2) -> 0.6 | N13: =ROUND($N$34/$E$32/7,2) -> 0.37 | O13: =M13-N13+'Zał 7 25-01-2024'!L13+0.25 -> 0.48 | P13: =F13+O13 -> 4.12 | R13: =ROUND(M13*C13*7,2) -> 6456.04 | S13: =P13-'Zał 7 25-01-2024'!K13 -> 0
A14: 12 | B14: Kordiana 60 | C14: =4316.48+499.93*0.6+155.4 -> 4771.838 | D14: 354.54 | E14: =C14-D14 -> 4417.298 | F14: 3.54 | G14: =$G$34/$C$32*C14 -> 4403.3276 | H14: =$H$34/$C$32*C14 -> 2976.5297 | I14: =$I$36/$C$32*C14 -> 7394.5764 | J14: =$J$34/$C$32*C14 -> 832.38551 | K14: =$K$34/$C$32*C14 -> 4408.533 | L14: =G14+H14+I14+J14+K14 -> 20015.352 | M14: =ROUND(L14/C14/7,2) -> 0.6 | N14: =ROUND($N$34/$E$32/7,2) -> 0.37 | O14: =M14-N14+'Zał 7 25-01-2024'!L14 -> 0.23 | P14: =F14+O14 -> 3.77 | R14: =ROUND(M14*C14*7,2) -> 20041.72 | S14: =P14-'Zał 7 25-01-2024'!K14 -> 0
A15: 13 | B15: Kordiana 66 | C15: =3184.69+431.21*0.6 -> 3443.416 | D15: 293.58 | E15: =C15-D15 -> 3149.836 | F15: 3.4 | G15: =$G$34/$C$32*C15 -> 3177.4944 | H15: =$H$34/$C$32*C15 -> 2147.8998 | I15: =$I$36/$C$32*C15 -> 5336.0158 | J15: =$J$34/$C$32*C15 -> 600.65945 | K15: =$K$34/$C$32*C15 -> 3181.2507 | L15: =G15+H15+I15+J15+K15 -> 14443.32 | M15: =ROUND(L15/C15/7,2) -> 0.6 | N15: =ROUND($N$34/$E$32/7,2) -> 0.37 | O15: =M15-N15+'Zał 7 25-01-2024'!L15 -> 0.23 | P15: =F15+O15 -> 3.63 | R15: =ROUND(M15*C15*7,2) -> 14462.35 | S15: =P15-'Zał 7 25-01-2024'!K15 -> 0
A16: 14 | B16: Kordiana 68 | C16: =4450.83+483.4*0.6 -> 4740.87 | D16: 106.61 | E16: =C16-D16 -> 4634.26 | F16: 3.42 | G16: =$G$34/$C$32*C16 -> 4374.7511 | H16: =$H$34/$C$32*C16 -> 2957.2128 | I16: =$I$36/$C$32*C16 -> 7346.5875 | J16: =$J$34/$C$32*C16 -> 826.98354 | K16: =$K$34/$C$32*C16 -> 4379.9227 | L16: =G16+H16+I16+J16+K16 -> 19885.458 | M16: =ROUND(L16/C16/7,2) -> 0.6 | N16: =ROUND($N$34/$E$32/7,2) -> 0.37 | O16: =M16-N16+'Zał 7 25-01-2024'!L16 -> 0.23 | P16: =F16+O16 -> 3.65 | R16: =ROUND(M16*C16*7,2) -> 19911.65 | S16: =P16-'Zał 7 25-01-2024'!K16 -> 0
A17: 15 | B17: Orawska 3 | C17: 1642.74 | D17: 72.43 | E17: =C17-D17 -> 1570.31 | F17: 3.9 | G17: =$G$34/$C$32*C17 -> 1515.8776 | H17: =$H$34/$C$32*C17 -> 1024.692 | I17: =$I$36/$C$32*C17 -> 2545.6368 | J17: =$J$34/$C$32*C17 -> 286.55478 | K17: =$K$34/$C$32*C17 -> 1517.6696 | L17: =G17+H17+I17+J17+K17 -> 6890.4308 | M17: =ROUND(L17/C17/7,2) -> 0.6 | N17: =ROUND($N$34/$E$32/7,2) -> 0.37 | O17: =M17-N17+'Zał 7 25-01-2024'!L17+0.17 -> 0.4 | P17: =F17+O17 -> 4.3 | R17: =ROUND(M17*C17*7,2) -> 6899.51 | S17: =P17-'Zał 7 25-01-2024'!K17 -> 0
A18: 16 | B18: Starowiślna 88 | C18: =2679.9+529.2 -> 3209.1 | D18: 113 | E18: =C18-D18 -> 3096.1 | F18: 3.53 | G18: =$G$34/$C$32*C18 -> 2961.2737 | H18: =$H$34/$C$32*C18 -> 2001.7405 | I18: =$I$36/$C$32*C18 -> 4972.913 | J18: =$J$34/$C$32*C18 -> 559.78605 | K18: =$K$34/$C$32*C18 -> 2964.7744 | L18: =G18+H18+I18+J18+K18 -> 13460.488 | M18: =ROUND(L18/C18/7,2) -> 0.6 | N18: =ROUND($N$34/$E$32/7,2) -> 0.37 | O18: =M18-N18+'Zał 7 25-01-2024'!L18+0.34 -> 0.57 | P18: =F18+O18 -> 4.1 | R18: =ROUND(M18*C18*7,2) -> 13478.22 | S18: =P18-'Zał 7 25-01-2024'!K18 -> 0
A19: 17 | B19: Na Zjeździe 13 | C19: =1236.91+216.09 -> 1453 | D19: 35.11 | E19: =C19-D19 -> 1417.89 | F19: 3.83 | G19: =$G$34/$C$32*C19 -> 1340.7905 | H19: =$H$34/$C$32*C19 -> 906.33791 | I19: =$I$36/$C$32*C19 -> 2251.6103 | J19: =$J$34/$C$32*C19 -> 253.45708 | K19: =$K$34/$C$32*C19 -> 1342.3755 | L19: =G19+H19+I19+J19+K19 -> 6094.5713 | M19: =ROUND(L19/C19/7,2) -> 0.6 | N19: =ROUND($N$34/$E$32/7,2) -> 0.37 | O19: =M19-N19+'Zał 7 25-01-2024'!L19 -> 0.23 | P19: =F19+O19 -> 4.06 | R19: =ROUND(M19*C19*7,2) -> 6102.6 | S19: =P19-'Zał 7 25-01-2024'!K19 -> 0
A20: 18 | B20: Ceglarska 21 | C20: =1304.25+75.4*0.6+23.5 -> 1372.99 | D20: 132.4 | E20: =C20-D20 -> 1240.59 | F20: 4.26 | G20: =$G$34/$C$32*C20 -> 1266.9593 | H20: =$H$34/$C$32*C20 -> 856.43007 | I20: =$I$36/$C$32*C20 -> 2127.6245 | J20: =$J$34/$C$32*C20 -> 239.50037 | K20: =$K$34/$C$32*C20 -> 1268.4571 | L20: =G20+H20+I20+J20+K20 -> 5758.9714 | M20: =ROUND(L20/C20/7,2) -> 0.6 | N20: =ROUND($N$34/$E$32/7,2) -> 0.37 | O20: =M20-N20+'Zał 7 25-01-2024'!L20+0.15 -> 0.38 | P20: =F20+O20 -> 4.64 | R20: =ROUND(M20*C20*7,2) -> 5766.56 | S20: =P20-'Zał 7 25-01-2024'!K20 -> 0
A21: 19 | B21: Ceglarska 23 | C21: =4083.6+625.9*0.6+161 -> 4620.14 | D21: 475.4 | E21: =C21-D21 -> 4144.74 | F21: 3.97 | G21: =$G$34/$C$32*C21 -> 4263.3446 | H21: =$H$34/$C$32*C21 -> 2881.9051 | I21: =$I$36/$C$32*C21 -> 7159.5009 | J21: =$J$34/$C$32*C21 -> 805.92375 | K21: =$K$34/$C$32*C21 -> 4268.3845 | L21: =G21+H21+I21+J21+K21 -> 19379.059 | M21: =ROUND(L21/C21/7,2) -> 0.6 | N21: =ROUND($N$34/$E$32/7,2) -> 0.37 | O21: =M21-N21+'Zał 7 25-01-2024'!L21 -> 0.23 | P21: =F21+O21 -> 4.2 | R21: =ROUND(M21*C21*7,2) -> 19404.59 | S21: =P21-'Zał 7 25-01-2024'!K21 -> 0
A22: 20 | B22: Ceglarska 25 | C22: =4177.7+643.6*0.6+109.1 -> 4672.96 | D22: 165.6 | E22: =C22-D22 -> 4507.36 | F22: 3.71 | G22: =$G$34/$C$32*C22 -> 4312.0855 | H22: =$H$34/$C$32*C22 -> 2914.8526 | I22: =$I$36/$C$32*C22 -> 7241.3523 | J22: =$J$34/$C$32*C22 -> 815.13752 | K22: =$K$34/$C$32*C22 -> 4317.1831 | L22: =G22+H22+I22+J22+K22 -> 19600.611 | M22: =ROUND(L22/C22/7,2) -> 0.6 | N22: =ROUND($N$34/$E$32/7,2) -> 0.37 | O22: =M22-N22+'Zał 7 25-01-2024'!L22 -> 0.23 | P22: =F22+O22 -> 3.94 | R22: =ROUND(M22*C22*7,2) -> 19626.43 | S22: =P22-'Zał 7 25-01-2024'!K22 -> 0
A23: 21 | B23: Ceglarska 27 | C23: =2637.6+388.5*0.6+286.7 -> 3157.4 | D23: 78.9 | E23: =C23-D23 -> 3078.5 | F23: 3.87 | G23: =$G$34/$C$32*C23 -> 2913.5663 | H23: =$H$34/$C$32*C23 -> 1969.4916 | I23: =$I$36/$C$32*C23 -> 4892.7972 | J23: =$J$34/$C$32*C23 -> 550.76765 | K23: =$K$34/$C$32*C23 -> 2917.0106 | L23: =G23+H23+I23+J23+K23 -> 13243.633 | M23: =ROUND(L23/C23/7,2) -> 0.6 | N23: =ROUND($N$34/$E$32/7,2) -> 0.37 | O23: =M23-N23+'Zał 7 25-01-2024'!L23+0.1 -> 0.33 | P23: =F23+O23 -> 4.2 | R23: =ROUND(M23*C23*7,2) -> 13261.08 | S23: =P23-'Zał 7 25-01-2024'!K23 -> 0
A24: 22 | B24: Św. Jacka 22 | C24: =5765.6+440.9*0.6+75.1 -> 6105.24 | D24: 809.7 | E24: =C24-D24 -> 5295.54 | F24: 4.04 | G24: =$G$34/$C$32*C24 -> 5633.7562 | H24: =$H$34/$C$32*C24 -> 3808.266 | I24: =$I$36/$C$32*C24 -> 9460.8542 | J24: =$J$34/$C$32*C24 -> 1064.9803 | K24: =$K$34/$C$32*C24 -> 5640.4161 | L24: =G24+H24+I24+J24+K24 -> 25608.273 | M24: =ROUND(L24/C24/7,2) -> 0.6 | N24: =ROUND($N$34/$E$32/7,2) -> 0.37 | O24: =M24-N24+'Zał 7 25-01-2024'!L24 -> 0.23 | P24: =F24+O24 -> 4.27 | R24: =ROUND(M24*C24*7,2) -> 25642.01 | S24: =P24-'Zał 7 25-01-2024'!K24 -> 0
A25: 23 | B25: Szwedzka 23 | C25: =4968.38+777.86*0.6+149.35 -> 5584.446 | D25: 477.05 | E25: =C25-D25 -> 5107.396 | F25: 4.01 | G25: =$G$34/$C$32*C25 -> 5153.181 | H25: =$H$34/$C$32*C25 -> 3483.4103 | I25: =$I$36/$C$32*C25 -> 8653.817 | J25: =$J$34/$C$32*C25 -> 974.13448 | K25: =$K$34/$C$32*C25 -> 5159.2729 | L25: =G25+H25+I25+J25+K25 -> 23423.816 | M25: =ROUND(L25/C25/7,2) -> 0.6 | N25: =ROUND($N$34/$E$32/7,2) -> 0.37 | O25: =M25-N25+'Zał 7 25-01-2024'!L25+0.1 -> 0.33 | P25: =F25+O25 -> 4.34 | R25: =ROUND(M25*C25*7,2) -> 23454.67 | S25: =P25-'Zał 7 25-01-2024'!K25 -> 0
A26: 24 | B26: Konopczyńskiego 7 | C26: =5503.34+1009.29*0.6 -> 6108.914 | D26: 1929.55 | E26: =C26-D26 -> 4179.364 | F26: 3.24 | G26: =$G$34/$C$32*C26 -> 5637.1464 | H26: =$H$34/$C$32*C26 -> 3810.5577 | I26: =$I$36/$C$32*C26 -> 9466.5476 | J26: =$J$34/$C$32*C26 -> 1065.6211 | K26: =$K$34/$C$32*C26 -> 5643.8104 | L26: =G26+H26+I26+J26+K26 -> 25623.683 | M26: =ROUND(L26/C26/7,2) -> 0.6 | N26: =ROUND($N$34/$E$32/7,2) -> 0.37 | O26: =M26-N26+'Zał 7 25-01-2024'!L26 -> 0.23 | P26: =F26+O26 -> 3.47 | R26: =ROUND(M26*C26*7,2) -> 25657.44 | S26: =P26-'Zał 7 25-01-2024'!K26 -> 0
A27: 25 | B27: Konopczyńskiego 7A | C27: =7380.28+2363.57*0.6 -> 8798.422 | D27: 2122.57 | E27: =C27-D27 -> 6675.852 | F27: 2.8 | G27: =$G$34/$C$32*C27 -> 8118.9542 | H27: =$H$34/$C$32*C27 -> 5488.1923 | I27: =$I$36/$C$32*C27 -> 13634.286 | J27: =$J$34/$C$32*C27 -> 1534.7711 | K27: =$K$34/$C$32*C27 -> 8128.552 | L27: =G27+H27+I27+J27+K27 -> 36904.756 | M27: =ROUND(L27/C27/7,2) -> 0.6 | N27: =ROUND($N$34/$E$32/7,2) -> 0.37 | O27: =M27-N27+'Zał 7 25-01-2024'!L27 -> 0.23 | P27: =F27+O27 -> 3.03 | R27: =ROUND(M27*C27*7,2) -> 36953.37 | S27: =P27-'Zał 7 25-01-2024'!K27 -> 0
A28: 26 | B28: Ceglarska 27A-garaże | C28: =312.2*0.6 -> 187.32 | D28: 31.23 | E28: =C28-D28 -> 156.09 | F28: 1.65 | G28: =$G$34/$C$32*C28 -> 172.85401 | H28: =$H$34/$C$32*C28 -> 116.84461 | I28: =$I$36/$C$32*C28 -> 290.27642 | J28: =$J$34/$C$32*C28 -> 32.675555 | K28: =$K$34/$C$32*C28 -> 173.05835 | L28: =G28+H28+I28+J28+K28 -> 785.70894 | M28: =ROUND(L28/C28/7,2) -> 0.6 | N28: =ROUND($N$34/$E$32/7,2) -> 0.37 | O28: =M28-N28+'Zał 7 25-01-2024'!L28 -> 0.23 | P28: =F28+O28 -> 1.88 | R28: =ROUND(M28*C28*7,2) -> 786.74 | S28: =P28-'Zał 7 25-01-2024'!K28 -> 0
A29: 27 | B29: Piltza 29 | C29: =4246.69+1830.5*0.6 -> 5344.99 | D29: 1098.01 | E29: =C29-D29 -> 4246.98 | F29: 3.17 | G29: =$G$34/$C$32*C29 -> 4932.2173 | H29: =$H$34/$C$32*C29 -> 3334.0448 | I29: =$I$36/$C$32*C29 -> 8282.7491 | J29: =$J$34/$C$32*C29 -> 932.36447 | K29: =$K$34/$C$32*C29 -> 4938.0479 | L29: =G29+H29+I29+J29+K29 -> 22419.424 | M29: =ROUND(L29/C29/7,2) -> 0.6 | N29: =ROUND($N$34/$E$32/7,2) -> 0.37 | O29: =M29-N29+0.4+'Zał 7 25-01-2024'!L29+0.3 -> 0.93 | P29: =F29+O29 -> 4.1 | R29: =ROUND(M29*C29*7,2) -> 22448.96 | S29: =P29-'Zał 7 25-01-2024'!K29 -> 0
A30: 28 | B30: Piltza 33 | C30: =3067.13+1433.95*0.6 -> 3927.5 | D30: 1192.67 | E30: =C30-D30 -> 2734.83 | F30: 3.41 | G30: =$G$34/$C$32*C30 -> 3624.1945 | H30: =$H$34/$C$32*C30 -> 2449.857 | I30: =$I$36/$C$32*C30 -> 6086.1662 | J30: =$J$34/$C$32*C30 -> 685.10165 | K30: =$K$34/$C$32*C30 -> 3628.4789 | L30: =G30+H30+I30+J30+K30 -> 16473.798 | M30: =ROUND(L30/C30/7,2) -> 0.6 | N30: =ROUND($N$34/$E$32/7,2) -> 0.37 | O30: =M30-N30+'Zał 7 25-01-2024'!L30+0.26 -> 0.49 | P30: =F30+O30 -> 3.9 | R30: =ROUND(M30*C30*7,2) -> 16495.5 | S30: =P30-'Zał 7 25-01-2024'!K30 -> 0
A31: 29 | B31: Piltza 35 | C31: =5704.86+2678.54*0.6 -> 7311.984 | D31: 1347.08 | E31: =C31-D31 -> 5964.904 | F31: 3.47 | G31: =$G$34/$C$32*C31 -> 6747.308 | H31: =$H$34/$C$32*C31 -> 4560.9968 | I31: =$I$36/$C$32*C31 -> 11330.859 | J31: =$J$34/$C$32*C31 -> 1275.4812 | K31: =$K$34/$C$32*C31 -> 6755.2844 | L31: =G31+H31+I31+J31+K31 -> 30669.93 | M31: =ROUND(L31/C31/7,2) -> 0.6 | N31: =ROUND($N$34/$E$32/7,2) -> 0.37 | O31: =M31-N31+0.2+'Zał 7 25-01-2024'!L31+0.25 -> 0.68 | P31: =F31+O31 -> 4.15 | R31: =ROUND(M31*C31*7,2) -> 30710.33 | S31: =P31-'Zał 7 25-01-2024'!K31 -> 0
B32: Suma | C32: =SUM(C3:C31) -> 110005.28 | D32: =SUM(D3:D31) -> 13533.23 | E32: =SUM(E3:E31) -> 96472.048 | F32: =SUM(F3:F31)/29 -> 3.5393103 | G32: =SUM(G3:G31) -> 101510 | H32: =SUM(H3:H31) -> 68618 | I32: =SUM(I3:I31) -> 170467.32 | J32: =SUM(J3:J31) -> 19189 | K32: =SUM(K3:K31) -> 101630 | L32: =SUM(L3:L31) -> 461414.32 | M32: =SUM(M3:M31)/29 -> 0.6 | N32: =ROUND($N$34/$E$32/7,2) -> 0.37 | O32: =SUM(O3:O31)/29 -> 0.32482759 | P32: =SUM(P3:P31)/29 -> 3.8641379 | R32: =SUM(R3:R31) -> 462022.16
G34: 101510 | H34: 68618 | I34: 98362.08 | J34: 19189 | K34: 101630 | N34: 250000 | P34: =P32-F32 -> 0.32482759 | R34: =R32-L32 -> 607.84
D35: =D32/C32 -> 0.12302346 | I35: 72105.24 | K35: Pozost.K/Ekspl
H36: FW CDD | I36: =SUM(I34:I35) -> 170467.32

Sheet Zał 7 25-01-2024
A1: L.P. | B1: NIERUCHOMOŚĆ | C1: STAWKA EKSPLOATACYJNA dla Lokali Mieszkalnych i Lokali Użytkowych obowiązująca od 1 stycznia 2024 r. w zł/m2 | D1: STAWKA EKSPLOATACYJNA dla Garaży i Miejsc Postojowych obowiązująca od 1 stycznia 2024 r. w zł/m2 | E1: Wzrost stawki eksploatacyjnej w roku 2024 od 1 czerwca 2024 w zł/m2 | F1: STAWKA EKSPLOATACYJNA dla Lokali Mieszkalnych i Lokali Użytkowych obowiązująca od 1 czerwca 2024 r. w zł/m2 | G1: STAWKA EKSPLOATACYJNA dla Garaży i Miejsc Postojowych obowiązująca od 1 czerwca 2024 r. w zł/m2 | H1: WZROST STAWKI EKSPLOATACYJNA dla Lokali Mieszkalnych i Lokali Użytkowych dla NIECZŁONKÓW od 1 XI 2024 r. w zł/m2 | I1: STAWKA EKSPLOATACYJNA dla Lokali Mieszkalnych i Lokali Użytkowych dla NIECZŁONKÓW obowiązująca od 1 listopada 2024 r. w zł/m2 | J1: STAWKA EKSPLOATACYJNA dla Garaży i Miejsc Postojowych dla NIECZŁONKÓW obowiązująca od 1 listopada 2024 r. w zł/m2 | K1: Propozycja RN | L1: Sprawdzenie
A2: 1 | B2: 2 | C2: 3 | D2: 4 | E2: 5 | F2: 7 | G2: 8 | H2: 9 | I2: 10 | J2: 11
A3: 1 | B3: Turniejowa 59 | C3: 3.56 | D3: x | E3: 0.23 | F3: =C3+E3 -> 3.79 | G3: x | H3: 0.38 | I3: =F3+H3 -> 4.17 | J3: x | K3: 3.79 | L3: =K3-F3 -> 0
A4: 2 | B4: Turniejowa 61 | C4: 3.57 | D4: x | E4: =0.23+0.2 -> 0.43 | F4: =C4+E4 -> 4 | G4: x | H4: 0.38 | I4: =F4+H4 -> 4.38 | J4: x | K4: 4 | L4: =K4-F4 -> 0
A5: 3 | B5: Turniejowa 63 | C5: 3.91 | D5: x | E5: =0.23+0.36 -> 0.59 | F5: =C5+E5 -> 4.5 | G5: x | H5: 0.38 | I5: =F5+H5 -> 4.88 | J5: x | K5: 4.5 | L5: =K5-F5 -> 0
A6: 4 | B6: Turniejowa 65 | C6: 3.67 | D6: =3.67*0.6 -> 2.202 | E6: 0.23 | F6: =C6+E6 -> 3.9 | G6: =3.9*0.6 -> 2.34 | H6: 0.38 | I6: =F6+H6 -> 4.28 | J6: =I6*0.6 -> 2.568 | K6: 3.9 | L6: =K6-F6 -> 0
A7: 5 | B7: Turniejowa 65A | C7: 3.28 | D7: x | E7: 0 | F7: =C7+E7 -> 3.28 | G7: x | H7: 0.38 | I7: =F7+H7 -> 3.66 | J7: x | K7: 3.28 | L7: =K7-F7 -> 0
A8: 6 | B8: Kordiana 52 | C8: 3.62 | D8: x | E8: 0 | F8: =C8+E8 -> 3.62 | G8: x | H8: 0.38 | I8: =F8+H8 -> 4 | J8: x | K8: 3.62 | L8: =K8-F8 -> 0
A9: 7 | B9: Kordiana 54 | C9: 3.63 | D9: =3.63*0.6 -> 2.178 | E9: 0 | F9: =C9+E9 -> 3.63 | G9: =3.63*0.6 -> 2.178 | H9: 0.38 | I9: =F9+H9 -> 4.01 | J9: =I9*0.6 -> 2.406 | K9: 3.63 | L9: =K9-F9 -> 0
A10: 8 | B10: Kordiana 56 | C10: 3.52 | D10: x | E10: 0 | F10: =C10+E10 -> 3.52 | G10: x | H10: 0.38 | I10: =F10+H10 -> 3.9 | J10: x | K10: 3.52 | L10: =K10-F10 -> 0
A11: 9 | B11: Kordiana 58 | C11: 3.64 | D11: =3.64*0.6 -> 2.184 | E11: =0.23+0.25 -> 0.48 | F11: =C11+E11 -> 4.12 | G11: =4.12*0.6 -> 2.472 | H11: 0.38 | I11: =F11+H11 -> 4.5 | J11: =I11*0.6 -> 2.7 | K11: 4.12 | L11: =K11-F11 -> 0
A12: 10 | B12: Kordiana 58A | C12: 3.38 | D12: =3.38*0.6 -> 2.028 | E12: =0.23+0.34 -> 0.57 | F12: =C12+E12 -> 3.95 | G12: =3.95*0.6 -> 2.37 | H12: 0.38 | I12: =F12+H12 -> 4.33 | J12: =I12*0.6 -> 2.598 | K12: 3.95 | L12: =K12-F12 -> 0
A13: 11 | B13: Kordiana 58B | C13: 3.64 | D13: =3.64*0.6 -> 2.184 | E13: =0.23+0.25 -> 0.48 | F13: =C13+E13 -> 4.12 | G13: =4.12*0.6 -> 2.472 | H13: 0.38 | I13: =F13+H13 -> 4.5 | J13: =I13*0.6 -> 2.7 | K13: 4.12 | L13: =K13-F13 -> 0
A14: 12 | B14: Kordiana 60 | C14: 3.54 | D14: =3.54*0.6 -> 2.124 | E14: 0.23 | F14: =C14+E14 -> 3.77 | G14: =3.77*0.6 -> 2.262 | H14: 0.38 | I14: =F14+H14 -> 4.15 | J14: =I14*0.6 -> 2.49 | K14: 3.77 | L14: =K14-F14 -> 0
A15: 13 | B15: Kordiana 66 | C15: 3.4 | D15: =3.4*0.6 -> 2.04 | E15: 0.23 | F15: =C15+E15 -> 3.63 | G15: =3.63*0.6 -> 2.178 | H15: 0.38 | I15: =F15+H15 -> 4.01 | J15: =I15*0.6 -> 2.406 | K15: 3.63 | L15: =K15-F15 -> 0
A16: 14 | B16: Kordiana 68 | C16: 3.42 | D16: =3.42*0.6 -> 2.052 | E16: 0.23 | F16: =C16+E16 -> 3.65 | G16: =3.65*0.6 -> 2.19 | H16: 0.38 | I16: =F16+H16 -> 4.03 | J16: =I16*0.6 -> 2.418 | K16: 3.65 | L16: =K16-F16 -> 0
A17: 15 | B17: Orawska 3 | C17: 3.9 | D17: x | E17: =0.23+0.17 -> 0.4 | F17: =C17+E17 -> 4.3 | G17: x | H17: 0.38 | I17: =F17+H17 -> 4.68 | J17: x | K17: 4.3 | L17: =K17-F17 -> 0
A18: 16 | B18: Starowiślna 88 | C18: 3.53 | D18: x | E18: =0.23+0.34 -> 0.57 | F18: =C18+E18 -> 4.1 | G18: x | H18: 0.38 | I18: =F18+H18 -> 4.48 | J18: x | K18: 4.1 | L18: =K18-F18 -> 0
A19: 17 | B19: Na Zjeździe 13 | C19: 3.83 | D19: x | E19: 0.23 | F19: =C19+E19 -> 4.06 | G19: x | H19: 0.38 | I19: =F19+H19 -> 4.44 | J19: x | K19: 4.06 | L19: =K19-F19 -> 0
A20: 18 | B20: Ceglarska 21 | C20: 4.26 | D20: =4.26*0.6 -> 2.556 | E20: =0.23+0.15 -> 0.38 | F20: =C20+E20 -> 4.64 | G20: =4.64*0.6 -> 2.784 | H20: 0.38 | I20: =F20+H20 -> 5.02 | J20: =I20*0.6 -> 3.012 | K20: 4.64 | L20: =K20-F20 -> 0
A21: 19 | B21: Ceglarska 23 | C21: 3.97 | D21: =3.97*0.6 -> 2.382 | E21: 0.23 | F21: =C21+E21 -> 4.2 | G21: =4.2*0.6 -> 2.52 | H21: 0.38 | I21: =F21+H21 -> 4.58 | J21: =I21*0.6 -> 2.748 | K21: 4.2 | L21: =K21-F21 -> 0
A22: 20 | B22: Ceglarska 25 | C22: 3.71 | D22: =3.71*0.6 -> 2.226 | E22: 0.23 | F22: =C22+E22 -> 3.94 | G22: =3.94*0.6 -> 2.364 | H22: 0.38 | I22: =F22+H22 -> 4.32 | J22: =I22*0.6 -> 2.592 | K22: 3.94 | L22: =K22-F22 -> 0
A23: 21 | B23: Ceglarska 27 | C23: 3.87 | D23: =3.87*0.6 -> 2.322 | E23: =0.23+0.1 -> 0.33 | F23: =C23+E23 -> 4.2 | G23: =4.2*0.6 -> 2.52 | H23: 0.38 | I23: =F23+H23 -> 4.58 | J23: =I23*0.6 -> 2.748 | K23: 4.2 | L23: =K23-F23 -> 0
A24: 22 | B24: Św. Jacka 22 | C24: 4.04 | D24: =4.04*0.6 -> 2.424 | E24: 0.23 | F24: =C24+E24 -> 4.27 | G24: =4.27*0.6 -> 2.562 | H24: 0.38 | I24: =F24+H24 -> 4.65 | J24: =I24*0.6 -> 2.79 | K24: 4.27 | L24: =K24-F24 -> 0
A25: 23 | B25: Szwedzka 23 | C25: 4.01 | D25: =4.01*0.6 -> 2.406 | E25: =0.23+0.1 -> 0.33 | F25: =C25+E25 -> 4.34 | G25: =4.34*0.6 -> 2.604 | H25: 0.38 | I25: =F25+H25 -> 4.72 | J25: =I25*0.6 -> 2.832 | K25: 4.34 | L25: =K25-F25 -> 0
A26: 24 | B26: Konopczyńskiego 7 | C26: 3.24 | D26: =3.24*0.6 -> 1.944 | E26: 0.23 | F26: =C26+E26 -> 3.47 | G26: =3.47*0.6 -> 2.082 | H26: 0.38 | I26: =F26+H26 -> 3.85 | J26: =I26*0.6 -> 2.31 | K26: 3.47 | L26: =K26-F26 -> 0
A27: 25 | B27: Konopczyńskiego 7A | C27: 2.8 | D27: =2.8*0.6 -> 1.68 | E27: 0.23 | F27: =C27+E27 -> 3.03 | G27: =3.03*0.6 -> 1.818 | H27: 0.38 | I27: =F27+H27 -> 3.41 | J27: =I27*0.6 -> 2.046 | K27: 3.03 | L27: =K27-F27 -> 0
A28: 26 | B28: Cegl.27A-garaże | C28: x | D28: 1.65 | E28: 0.23 | F28: 1.88 | G28: 1.88 | H28: 0.38 | I28: x | J28: =G28+H28 -> 2.26 | K28: 1.88 | L28: 0
A29: 27 | B29: Piltza 29 | C29: 3.17 | D29: =3.17*0.6 -> 1.902 | E29: =0.63+0.3 -> 0.93 | F29: =C29+E29 -> 4.1 | G29: =4.1*0.6 -> 2.46 | H29: 0.38 | I29: =F29+H29 -> 4.48 | J29: =I29*0.6 -> 2.688 | K29: 4.1 | L29: =K29-F29 -> 0
A30: 28 | B30: Piltza 33 | C30: 3.41 | D30: =3.41*0.6 -> 2.046 | E30: =0.23+0.26 -> 0.49 | F30: =C30+E30 -> 3.9 | G30: =3.9*0.6 -> 2.34 | H30: 0.38 | I30: =F30+H30 -> 4.28 | J30: =I30*0.6 -> 2.568 | K30: 3.9 | L30: =K30-F30 -> 0
A31: 29 | B31: Piltza 35 | C31: 3.47 | D31: =3.47*0.6 -> 2.082 | E31: =0.43+0.25 -> 0.68 | F31: =C31+E31 -> 4.15 | G31: =4.15*0.6 -> 2.49 | H31: 0.38 | I31: =F31+H31 -> 4.53 | J31: =I31*0.6 -> 2.718 | K31: 4.15 | L31: =K31-F31 -> 0
B32: Suma | C32: =(SUM(C3:C27)+SUM(C29:C31))/28 -> 3.6067857 | D32: =((D6+D9+SUM(D11:D16)+SUM(D20:D31))/20) -> 2.1306 | E32: =SUM(E3:E31)/29 -> 0.32482759 | F32: =(SUM(F3:F31)-F28)/28 -> 3.935 | G32: =SUM(G3:G31)/20 -> 2.3443 | H32: =SUM(H3:H31)/29 -> 0.38 | I32: =SUM(I3:I31)/28 -> 4.315 | J32: =SUM(J3:J31)/20 -> 2.5799 | K32: =(SUM(K3:K31)-K28)/28 -> 3.935 | L32: =SUM(L3:L31)/28 -> 0
